BEGIN:VCALENDAR
VERSION:2.0
PRODID:-//linuxsoftware.nz//NONSGML Joyous v0.6//EN
BEGIN:VEVENT
SUMMARY:Check the traps
DTSTART;TZID=Pacific/Auckland:20181011T000000
DTEND;TZID=Pacific/Auckland:20181011T235959
DTSTAMP:20181221T212712Z
UID:6fb2a517-4ce6-4349-8550-72a84dac879e
SEQUENCE:3
RRULE:FREQ=MONTHLY;BYMONTHDAY=11;WKST=SU
CREATED:20181021T193652Z
DESCRIPTION:<p>Around this date\, check the Dolomite Point traps.</p>
LAST-MODIFIED:20181107T202551Z
LOCATION:-42.115456\, 171.329627
URL:http://pfpunakaiki.westcoast.org.nz/calendar/check-traps/
END:VEVENT
BEGIN:VEVENT
SUMMARY:Check the traps
DTSTART;TZID=Pacific/Auckland:20181111T000000
DTEND;TZID=Pacific/Auckland:20181111T235959
DTSTAMP:20181221T212712Z
UID:6fb2a517-4ce6-4349-8550-72a84dac879e
RECURRENCE-ID;TZID=Pacific/Auckland:20181111T000000
SEQUENCE:3
CREATED:20181029T233614Z
DESCRIPTION:<p>Roster: Suzanne Hills</p>
LAST-MODIFIED:20181029T233922Z
LOCATION:-42.115456\, 171.329627
URL:http://pfpunakaiki.westcoast.org.nz/calendar/check-traps/2018-11-11-ex
 tra-info/
END:VEVENT
BEGIN:VEVENT
SUMMARY:Check the traps
DTSTART;TZID=Pacific/Auckland:20181211T000000
DTEND;TZID=Pacific/Auckland:20181211T235959
DTSTAMP:20181221T212712Z
UID:6fb2a517-4ce6-4349-8550-72a84dac879e
RECURRENCE-ID;TZID=Pacific/Auckland:20181211T000000
SEQUENCE:1
CREATED:20181029T234004Z
DESCRIPTION:<p>Roster: Chris Cromey</p>
LAST-MODIFIED:20181029T234004Z
LOCATION:-42.115456\, 171.329627
URL:http://pfpunakaiki.westcoast.org.nz/calendar/check-traps/2018-12-11-ex
 tra-info/
END:VEVENT
BEGIN:VEVENT
SUMMARY:Check the traps
DTSTART;TZID=Pacific/Auckland:20190111T000000
DTEND;TZID=Pacific/Auckland:20190111T235959
DTSTAMP:20181221T212712Z
UID:6fb2a517-4ce6-4349-8550-72a84dac879e
RECURRENCE-ID;TZID=Pacific/Auckland:20190111T000000
SEQUENCE:1
CREATED:20181029T234046Z
DESCRIPTION:<p>Roster: Tony and Zack Wilkins</p>
LAST-MODIFIED:20181029T234046Z
LOCATION:-42.115456\, 171.329627
URL:http://pfpunakaiki.westcoast.org.nz/calendar/check-traps/2019-01-11-ex
 tra-info/
END:VEVENT
BEGIN:VEVENT
SUMMARY:Check the traps
DTSTART;TZID=Pacific/Auckland:20190211T000000
DTEND;TZID=Pacific/Auckland:20190211T235959
DTSTAMP:20181221T212712Z
UID:6fb2a517-4ce6-4349-8550-72a84dac879e
RECURRENCE-ID;TZID=Pacific/Auckland:20190211T000000
SEQUENCE:1
CREATED:20181029T235010Z
DESCRIPTION:<p>Roster: Tim Mitchell / Prue Grant</p>
LAST-MODIFIED:20181029T235010Z
LOCATION:-42.115456\, 171.329627
URL:http://pfpunakaiki.westcoast.org.nz/calendar/check-traps/2019-02-11-ex
 tra-info/
END:VEVENT
BEGIN:VEVENT
SUMMARY:Check the traps
DTSTART;TZID=Pacific/Auckland:20190311T000000
DTEND;TZID=Pacific/Auckland:20190311T235959
DTSTAMP:20181221T212712Z
UID:6fb2a517-4ce6-4349-8550-72a84dac879e
RECURRENCE-ID;TZID=Pacific/Auckland:20190311T000000
SEQUENCE:2
CREATED:20181029T235048Z
DESCRIPTION:<p>Roster: David Moore</p>
LAST-MODIFIED:20181107T202237Z
LOCATION:-42.115456\, 171.329627
URL:http://pfpunakaiki.westcoast.org.nz/calendar/check-traps/2019-03-11-ex
 tra-info/
END:VEVENT
BEGIN:VEVENT
SUMMARY:Check the traps
DTSTART;TZID=Pacific/Auckland:20190411T000000
DTEND;TZID=Pacific/Auckland:20190411T235959
DTSTAMP:20181221T212712Z
UID:6fb2a517-4ce6-4349-8550-72a84dac879e
RECURRENCE-ID;TZID=Pacific/Auckland:20190411T000000
SEQUENCE:2
CREATED:20181029T235128Z
DESCRIPTION:<p>Roster: Patrick Volk</p>
LAST-MODIFIED:20181107T202302Z
LOCATION:-42.115456\, 171.329627
URL:http://pfpunakaiki.westcoast.org.nz/calendar/check-traps/2019-04-11-ex
 tra-info/
END:VEVENT
BEGIN:VEVENT
SUMMARY:Check the traps
DTSTART;TZID=Pacific/Auckland:20190511T000000
DTEND;TZID=Pacific/Auckland:20190511T235959
DTSTAMP:20181221T212712Z
UID:6fb2a517-4ce6-4349-8550-72a84dac879e
RECURRENCE-ID;TZID=Pacific/Auckland:20190511T000000
SEQUENCE:2
CREATED:20181029T235208Z
DESCRIPTION:<p>Roster: Joe Johannsen</p>
LAST-MODIFIED:20181107T202333Z
LOCATION:-42.115456\, 171.329627
URL:http://pfpunakaiki.westcoast.org.nz/calendar/check-traps/2019-05-11-ex
 tra-info/
END:VEVENT
BEGIN:VEVENT
SUMMARY:Project Catch Up
DTSTART;TZID=Pacific/Auckland:20181102T153000
DTEND;TZID=Pacific/Auckland:20181102T235959
DTSTAMP:20181221T212712Z
UID:269badc1-c2bb-423d-b0fc-a17b65e129e8
SEQUENCE:1
CREATED:20181030T005252Z
DESCRIPTION:<p></p><p>Lets have a project catch up 3:30 Friday 2 Nov 2018 
 hope you can make it.</p>
LAST-MODIFIED:20181030T005252Z
LOCATION:Pancake Rocks Cafe
URL:http://pfpunakaiki.westcoast.org.nz/calendar/project-catch/
END:VEVENT
BEGIN:VTIMEZONE
TZID:Pacific/Auckland
BEGIN:DAYLIGHT
DTSTART;VALUE=DATE-TIME:20180930T030000
TZNAME:NZDT
TZOFFSETFROM:+1200
TZOFFSETTO:+1300
END:DAYLIGHT
BEGIN:STANDARD
DTSTART;VALUE=DATE-TIME:20190407T020000
TZNAME:NZST
TZOFFSETFROM:+1300
TZOFFSETTO:+1200
END:STANDARD
END:VTIMEZONE
END:VCALENDAR
